BEGIN:VCALENDAR
VERSION:2.0
PRODID:-//Mardi Gras Casino - ECPv6.15.20//NONSGML v1.0//EN
CALSCALE:GREGORIAN
METHOD:PUBLISH
X-ORIGINAL-URL:https://www.mardigrascasinowv.com
X-WR-CALDESC:Events for Mardi Gras Casino
REFRESH-INTERVAL;VALUE=DURATION:PT1H
X-Robots-Tag:noindex
X-PUBLISHED-TTL:PT1H
BEGIN:VTIMEZONE
TZID:America/New_York
BEGIN:DAYLIGHT
TZOFFSETFROM:-0500
TZOFFSETTO:-0400
TZNAME:EDT
DTSTART:20240310T070000
END:DAYLIGHT
BEGIN:STANDARD
TZOFFSETFROM:-0400
TZOFFSETTO:-0500
TZNAME:EST
DTSTART:20241103T060000
END:STANDARD
BEGIN:DAYLIGHT
TZOFFSETFROM:-0500
TZOFFSETTO:-0400
TZNAME:EDT
DTSTART:20250309T070000
END:DAYLIGHT
BEGIN:STANDARD
TZOFFSETFROM:-0400
TZOFFSETTO:-0500
TZNAME:EST
DTSTART:20251102T060000
END:STANDARD
BEGIN:DAYLIGHT
TZOFFSETFROM:-0500
TZOFFSETTO:-0400
TZNAME:EDT
DTSTART:20260308T070000
END:DAYLIGHT
BEGIN:STANDARD
TZOFFSETFROM:-0400
TZOFFSETTO:-0500
TZNAME:EST
DTSTART:20261101T060000
END:STANDARD
END:VTIMEZONE
BEGIN:VTIMEZONE
TZID:UTC
BEGIN:STANDARD
TZOFFSETFROM:+0000
TZOFFSETTO:+0000
TZNAME:UTC
DTSTART:20240101T000000
END:STANDARD
END:VTIMEZONE
BEGIN:VEVENT
DTSTART;TZID=America/New_York:20250128T090000
DTEND;TZID=America/New_York:20250128T235900
DTSTAMP:20260425T064357
CREATED:20241127T020838Z
LAST-MODIFIED:20250107T194859Z
UID:10000506-1738054800-1738108740@www.mardigrascasinowv.com
SUMMARY:Progressive Weekly Multiplier
DESCRIPTION:Tuesdays | 9am–Midnight \n\nJoin us each week in January and you can earn up to five times the amount of points four weeks in a row! \nWeek 1: X2 | Week 2: X3 | Week 3: X4 | Week 4: X5 \n\nPlayers must come in four weeks in a row to earn the max five times multiplier.
URL:https://www.mardigrascasinowv.com/event/progressive-weekly-multiplier/2025-01-28/
CATEGORIES:Casino Gaming Promotions
ATTACH;FMTTYPE=image/jpeg:https://www.mardigrascasinowv.com/wp-content/uploads/2024/11/GMAR7016_ProgressiveMultiplier_Web-Promo-300x500-1.jpg
END:VEVENT
BEGIN:VEVENT
DTSTART;TZID=UTC:20250129T090000
DTEND;TZID=UTC:20250129T235900
DTSTAMP:20260425T064357
CREATED:20240709T013620Z
LAST-MODIFIED:20250121T212725Z
UID:10000411-1738141200-1738195140@www.mardigrascasinowv.com
SUMMARY:50 Plus Winsdays
DESCRIPTION:Wednesdays | 9am–Midnight \n\nFor members age 50+ \n50+ members who earn 100 points are eligible to play a kiosk game for a chance to win up to $1\,000 in Free Play!
URL:https://www.mardigrascasinowv.com/event/50-plus-winsdays/2025-01-29/
CATEGORIES:Casino Gaming Promotions
ATTACH;FMTTYPE=image/jpeg:https://www.mardigrascasinowv.com/wp-content/uploads/2024/07/MG-50-Plus-promo.jpg
END:VEVENT
BEGIN:VEVENT
DTSTART;TZID=UTC:20250129T170000
DTEND;TZID=UTC:20250129T220000
DTSTAMP:20260425T064357
CREATED:20240730T233616Z
LAST-MODIFIED:20250131T143325Z
UID:10000455-1738170000-1738188000@www.mardigrascasinowv.com
SUMMARY:French Quarter - Prime Rib Dinner for Two
DESCRIPTION:Wednesdays | 5pm – 10pm | $60 Per Couple \n\nSalad\nSweet spring mixed greens\, tomatoes\, cucumbers\, red onion and carrots \nEntrée\nPrime rib\, baked potato\, green beans\, creamy horseradish sauce and au jus \nDessert for Sharing\nVanilla bean cheesecake with strawberry sauce
URL:https://www.mardigrascasinowv.com/event/prime-rib-dinner-for-two/2025-01-29/
CATEGORIES:Dining Promotions
ATTACH;FMTTYPE=image/jpeg:https://www.mardigrascasinowv.com/wp-content/uploads/2024/07/MG_PrimeRibNight_Promo.jpg
END:VEVENT
BEGIN:VEVENT
DTSTART;TZID=America/New_York:20250129T180000
DTEND;TZID=America/New_York:20250129T210000
DTSTAMP:20260425T064357
CREATED:20250107T195602Z
LAST-MODIFIED:20250107T195602Z
UID:10000507-1738173600-1738184400@www.mardigrascasinowv.com
SUMMARY:January Jackpot Drawings
DESCRIPTION:Wednesday\, January 29\nFree Play Drawing | 6pm–8:30pm\n$1\,000 Cash Drawing | 9pm \n\nStarting December 18 through January 28\, Lucky North® Rewards members who hit a taxable slot jackpot will receive a free promotional scratch-card ticket from a slots team member. Redeem your promotional scratch-card tickets at the Lucky North® Rewards desk. \nCome back on January 29 to deposit tickets into the drawing barrel starting at 5pm for your chance to win Free Play and $1\,000 CASH! \n\nTicket and awarded Free Play are non-transferable and will be valid for seven days after issue date. See the Lucky North® Rewards desk for full details. This promotion is not administered or sponsored by the West Virginia Lottery.
URL:https://www.mardigrascasinowv.com/event/january-jackpot-drawings/
CATEGORIES:Casino Gaming Promotions
ATTACH;FMTTYPE=image/jpeg:https://www.mardigrascasinowv.com/wp-content/uploads/2024/07/MG-Jackpot-Drawings-promo.jpg
END:VEVENT
BEGIN:VEVENT
DTSTART;TZID=America/New_York:20250130T150000
DTEND;TZID=America/New_York:20250130T210000
DTSTAMP:20260425T064357
CREATED:20250107T201858Z
LAST-MODIFIED:20250110T185923Z
UID:10000512-1738249200-1738270800@www.mardigrascasinowv.com
SUMMARY:January Gift Giveaway
DESCRIPTION:Thursdays | 3pm–9pm \n\nEarn 100 base points between 9am and 9pm\, then print your gift voucher at any promotional kiosk between 3pm and 9pm and present with your Lucky North® Rewards card at the promotional stage to receive your gift. \nOn Thursday\, January 30th\, all four gifts will be available if you missed a week! \n\nLimit one gift per person per day\, while supplies last. $15 in Free Play available when gifts run out.
URL:https://www.mardigrascasinowv.com/event/january-gift-giveaway/2025-01-30/
CATEGORIES:Casino Gaming Promotions
ATTACH;FMTTYPE=image/jpeg:https://www.mardigrascasinowv.com/wp-content/uploads/2025/01/GMAR7070_GiftGiveaway_WebPromo_300x250_Dec24.jpg
END:VEVENT
BEGIN:VEVENT
DTSTART;TZID=America/New_York:20250131T090000
DTEND;TZID=America/New_York:20250131T235900
DTSTAMP:20260425T064357
CREATED:20241030T155841Z
LAST-MODIFIED:20250107T211035Z
UID:10000488-1738314000-1738367940@www.mardigrascasinowv.com
SUMMARY:Friday Kiosk Game
DESCRIPTION:Fridays | 9am–Midnight \n\nEarn 100 points to play a kiosk game at any promotional kiosk for the chance to win up to $1\,000 in Free Play or Match Play!
URL:https://www.mardigrascasinowv.com/event/friday-kiosk-game/2025-01-31/
CATEGORIES:Casino Gaming Promotions
ATTACH;FMTTYPE=image/jpeg:https://www.mardigrascasinowv.com/wp-content/uploads/2024/10/GMAR7070_FridayKiosk_Web-Promo-300x250_Dec24.jpg
END:VEVENT
BEGIN:VEVENT
DTSTART;TZID=America/New_York:20250131T170000
DTEND;TZID=America/New_York:20250131T230000
DTSTAMP:20260425T064357
CREATED:20240819T142348Z
LAST-MODIFIED:20250108T162724Z
UID:10000109-1738342800-1738364400@www.mardigrascasinowv.com
SUMMARY:French Quarter – Limited Time Seafood Buffet
DESCRIPTION:Friday\, January 31 | 5pm–11pm | $60 per person \n\nWe’re bringing back our popular seafood buffet for one night only! \nFeaturing oysters\, peel-and-eat shrimp\, crab legs\, prime rib\, chicken\, potatoes\, vegetables\, salad and desserts. \nIncludes one nonalcoholic beverage.
URL:https://www.mardigrascasinowv.com/event/french-quarter-limited-time-seafood-buffet/
CATEGORIES:Dining Promotions
ATTACH;FMTTYPE=image/gif:https://www.mardigrascasinowv.com/wp-content/uploads/2024/08/GMAR6468_FQ_SeafoodBuffet_WebPromo_300x250_Feb24_V1.gif
END:VEVENT
BEGIN:VEVENT
DTSTART;TZID=America/New_York:20250131T190000
DTEND;TZID=America/New_York:20250131T235900
DTSTAMP:20260425T064357
CREATED:20241030T160745Z
LAST-MODIFIED:20250411T175311Z
UID:10000422-1738350000-1738367940@www.mardigrascasinowv.com
SUMMARY:Entertaining Nights\, Endless Wins!
DESCRIPTION:Fridays | 7pm – Midnight | At the Promotional Stage  \n\nJoin us on Fridays for entertaining nights and endless wins\, where you can dance the night away while also winning Mardi Gras prizes from the DJ!
URL:https://www.mardigrascasinowv.com/event/entertaining-nights-endless-wins/2025-01-31/
CATEGORIES:Live Entertainment
ATTACH;FMTTYPE=image/jpeg:https://www.mardigrascasinowv.com/wp-content/uploads/2024/10/GMMAR6964_EntertainingNights_Web-Promo-300x500-1.jpg
END:VEVENT
BEGIN:VEVENT
DTSTART;VALUE=DATE:20250201
DTEND;VALUE=DATE:20250202
DTSTAMP:20260425T064357
CREATED:20240723T175213Z
LAST-MODIFIED:20250225T181822Z
UID:10000583-1738368000-1738454399@www.mardigrascasinowv.com
SUMMARY:Louie's Lounge
DESCRIPTION:Free Entertainment at Louie’s Lounge\n\n\nFebruary 2025\nFriday\, February 28 | 8pm – Midnight\nGolden \n\nMarch 2025\nSaturday\, March 1 | 8pm – Midnight\nBent Whiskey\nFriday\, March 7 | 8pm – Midnight\nAmos Steel\nSaturday\, March 8 | 8pm – Midnight\nRestless\nFriday\, March 14 | 8pm – Midnight\nNon-Friction\nSaturday\, March 15 | 8pm – Midnight\nAAA Entertainment\nFriday\, March 21 | 8pm – Midnight\nBlack Sheep\nSaturday\, March 22 | 8pm – Midnight\nSanta Cruz\nFriday\, March 28 | 8pm – Midnight\nGolden\nSaturday\, March 29 | 8pm – Midnight\nAdam Parker and The Bourbon Cowboys \n 
URL:https://www.mardigrascasinowv.com/event/louies-lounge/2025-02-01/
CATEGORIES:Live Entertainment
ATTACH;FMTTYPE=image/jpeg:https://www.mardigrascasinowv.com/wp-content/uploads/2024/07/MG-Louies-Entertainment-promo.jpg
END:VEVENT
BEGIN:VEVENT
DTSTART;VALUE=DATE:20250201
DTEND;VALUE=DATE:20250301
DTSTAMP:20260425T064357
CREATED:20250130T221716Z
LAST-MODIFIED:20250130T221716Z
UID:10000582-1738368000-1740787199@www.mardigrascasinowv.com
SUMMARY:Cafe Orleans February Specials
DESCRIPTION:Available Through February \n\nCountry Ham and Egg Bowl | $9 \nShredded hash browns topped with cured country ham\, a fried egg and a drizzle of white sausage gravy. \n  \nClassic Margarita | $9 \nA fan-favorite cocktail to pair with the excitement of the Big Game and college basketball tournaments. \n  \nServed only at Cafe Orleans.
URL:https://www.mardigrascasinowv.com/event/cafe-orleans-february-specials/
CATEGORIES:Dining Promotions
ATTACH;FMTTYPE=image/jpeg:https://www.mardigrascasinowv.com/wp-content/uploads/2025/01/GMAR7117_CafeOrleans_Feb_Web_300x250_Jan25_v1.jpg
END:VEVENT
BEGIN:VEVENT
DTSTART;VALUE=DATE:20250201
DTEND;VALUE=DATE:20250301
DTSTAMP:20260425T064357
CREATED:20250131T141527Z
LAST-MODIFIED:20250131T141631Z
UID:10000621-1738368000-1740787199@www.mardigrascasinowv.com
SUMMARY:French Quarter – February Drink Special
DESCRIPTION:Available Through February \n\n\nRose Petal Martini | $16\nVodka\, rose water\, lychee liqueur and a hint of lemon\, garnished with edible rose petals. \n  \nServed only at the French Quarter.
URL:https://www.mardigrascasinowv.com/event/french-quarter-february-drink-special/
CATEGORIES:Dining Promotions
ATTACH;FMTTYPE=image/jpeg:https://www.mardigrascasinowv.com/wp-content/uploads/2025/01/GMAR7117_FEBDrinkSpecial_WebPromo_300x250_Jan25_v1.jpg
END:VEVENT
BEGIN:VEVENT
DTSTART;VALUE=DATE:20250201
DTEND;VALUE=DATE:20250301
DTSTAMP:20260425T064357
CREATED:20250205T144806Z
LAST-MODIFIED:20250205T144806Z
UID:10000634-1738368000-1740787199@www.mardigrascasinowv.com
SUMMARY:Sports Bar - February Drink Special
DESCRIPTION:Available Through February \n\nQueen of Cards | $14 \nAbsolut Vanilla\, Kahlua\, Cold Brew\, Wild Strawberry. \n  \nServed only at the Sports Bar and Bourbon Bar.
URL:https://www.mardigrascasinowv.com/event/sports-bar-february-drink-special/
CATEGORIES:Dining Promotions
ATTACH;FMTTYPE=image/jpeg:https://www.mardigrascasinowv.com/wp-content/uploads/2025/02/Untitled-1.jpg
END:VEVENT
BEGIN:VEVENT
DTSTART;TZID=America/New_York:20250201T150000
DTEND;TZID=America/New_York:20250201T220000
DTSTAMP:20260425T064357
CREATED:20250130T215943Z
LAST-MODIFIED:20250130T215943Z
UID:10000578-1738422000-1738447200@www.mardigrascasinowv.com
SUMMARY:Cupid's Shuffle
DESCRIPTION:Saturdays | 3pm–10pm \n\nSlide into Love & Luck!\n3pm to 9pm | Four winners will compete in head-to-head matches for a chance at $500 Free Play! \n10pm Finale | Four winners will compete in head-to-head competition for a chance at our top prize of $2\,000 CASH!
URL:https://www.mardigrascasinowv.com/event/cupids-shuffle/2025-02-01/
CATEGORIES:Casino Gaming Promotions
ATTACH;FMTTYPE=image/jpeg:https://www.mardigrascasinowv.com/wp-content/uploads/2025/01/GMAR7117_CupidsShuffle_Web-Promo-300x250_Jan25_v1.jpg
END:VEVENT
BEGIN:VEVENT
DTSTART;TZID=America/New_York:20250202T090000
DTEND;TZID=America/New_York:20250202T235900
DTSTAMP:20260425T064357
CREATED:20250130T220409Z
LAST-MODIFIED:20250130T220409Z
UID:10000613-1738486800-1738540740@www.mardigrascasinowv.com
SUMMARY:Cupid's Heart Match Kiosk Game
DESCRIPTION:Sundays | 9am–Midnight \n\nEarn 100 points to play a kiosk game at any promotional kiosk for the chance to win up to $2\,500 Free Play! \nEarn and Play up to 3 times!
URL:https://www.mardigrascasinowv.com/event/cupids-heart-match-kiosk-game/2025-02-02/
CATEGORIES:Casino Gaming Promotions
ATTACH;FMTTYPE=image/jpeg:https://www.mardigrascasinowv.com/wp-content/uploads/2025/01/GMAR7117_CupidsHeartKiosk_Web-Promo-300x250_Jan25_v1.jpg
END:VEVENT
BEGIN:VEVENT
DTSTART;TZID=America/New_York:20250203T090000
DTEND;TZID=America/New_York:20250203T235900
DTSTAMP:20260425T064357
CREATED:20250130T220917Z
LAST-MODIFIED:20250204T143159Z
UID:10000617-1738573200-1738627140@www.mardigrascasinowv.com
SUMMARY:Cupid's Food Credit
DESCRIPTION:Mondays | 9am–Midnight \n\nJoin us on Mondays in February\, earn 100 points and get a $15 Food Credit to be used all week! \n\nPresidents’ Day | Monday\, February 17  \nCome in and earn 50 points to get a scratch off card worth up to $1\,000 Free Play! \n\nThis promotion is not administered or sponsored by the West Virginia Lottery.
URL:https://www.mardigrascasinowv.com/event/cupids-food-credit/2025-02-03/
CATEGORIES:Casino Gaming Promotions,Dining Promotions
ATTACH;FMTTYPE=image/jpeg:https://www.mardigrascasinowv.com/wp-content/uploads/2025/01/GMAR7117_CupidsFoodCredit_Web-Promo-300x250_Jan25_v1.jpg
END:VEVENT
BEGIN:VEVENT
DTSTART;TZID=America/New_York:20250204T090000
DTEND;TZID=America/New_York:20250204T235900
DTSTAMP:20260425T064357
CREATED:20250130T221204Z
LAST-MODIFIED:20250130T221204Z
UID:10000605-1738659600-1738713540@www.mardigrascasinowv.com
SUMMARY:Sweetheart Multiplier
DESCRIPTION:Tuesdays | 9am–Midnight \n\nJoin us each week in February\, and you can earn up to five times the amount of points four weeks in a row! \nWeek 1: X2 | Week 2: X3 | Week 3: X4 | Week 4: X5 \n\nPlayers must come in four weeks in a row to earn the max five times multiplier.
URL:https://www.mardigrascasinowv.com/event/sweetheart-multiplier/2025-02-04/
CATEGORIES:Casino Gaming Promotions
ATTACH;FMTTYPE=image/jpeg:https://www.mardigrascasinowv.com/wp-content/uploads/2025/01/GMAR7117_ProgressiveMulti_Web-Promo-300x300x250_Jan25_v1.jpg
END:VEVENT
BEGIN:VEVENT
DTSTART;TZID=UTC:20250205T090000
DTEND;TZID=UTC:20250205T235900
DTSTAMP:20260425T064357
CREATED:20240709T013620Z
LAST-MODIFIED:20250121T212725Z
UID:10000601-1738746000-1738799940@www.mardigrascasinowv.com
SUMMARY:50 Plus Winsdays
DESCRIPTION:Wednesdays | 9am–Midnight \n\nFor members age 50+ \n50+ members who earn 100 points are eligible to play a kiosk game for a chance to win up to $1\,000 in Free Play!
URL:https://www.mardigrascasinowv.com/event/50-plus-winsdays/2025-02-05/
CATEGORIES:Casino Gaming Promotions
ATTACH;FMTTYPE=image/jpeg:https://www.mardigrascasinowv.com/wp-content/uploads/2024/07/MG-50-Plus-promo.jpg
END:VEVENT
BEGIN:VEVENT
DTSTART;TZID=America/New_York:20250206T150000
DTEND;TZID=America/New_York:20250206T210000
DTSTAMP:20260425T064357
CREATED:20250130T221351Z
LAST-MODIFIED:20250130T221351Z
UID:10000609-1738854000-1738875600@www.mardigrascasinowv.com
SUMMARY:Gifts of Love Giveaway
DESCRIPTION:Thursdays | 3pm–9pm \n\nEarn 100 points\, print your voucher at any promotional kiosk and stop by the promotional stage to redeem your free gift.
URL:https://www.mardigrascasinowv.com/event/gifts-of-love-giveaway/2025-02-06/
CATEGORIES:Casino Gaming Promotions
ATTACH;FMTTYPE=image/jpeg:https://www.mardigrascasinowv.com/wp-content/uploads/2025/01/GMAR7117_GiftGiveaway_WebPromo_300x250_Jan25_v1.jpg
END:VEVENT
BEGIN:VEVENT
DTSTART;TZID=America/New_York:20250207T090000
DTEND;TZID=America/New_York:20250207T235900
DTSTAMP:20260425T064357
CREATED:20250130T221528Z
LAST-MODIFIED:20250130T221528Z
UID:10000597-1738918800-1738972740@www.mardigrascasinowv.com
SUMMARY:Cupid's $1\,000 Touchdown Challenge
DESCRIPTION:Fridays | 9am–Midnight \n\nFor each 50 points earned (up to 15 times)\, play a kiosk game for up to $1\,000 in Free Play and prizes!
URL:https://www.mardigrascasinowv.com/event/cupids-1000-touchdown-challenge/2025-02-07/
CATEGORIES:Casino Gaming Promotions
ATTACH;FMTTYPE=image/jpeg:https://www.mardigrascasinowv.com/wp-content/uploads/2025/01/GMAR7117_CupidsTouchdown_Web-Promo-300x250_Jan25_v1.jpg
END:VEVENT
BEGIN:VEVENT
DTSTART;TZID=America/New_York:20250207T190000
DTEND;TZID=America/New_York:20250207T235900
DTSTAMP:20260425T064357
CREATED:20241030T160745Z
LAST-MODIFIED:20250411T175311Z
UID:10000592-1738954800-1738972740@www.mardigrascasinowv.com
SUMMARY:Entertaining Nights\, Endless Wins!
DESCRIPTION:Fridays | 7pm – Midnight | At the Promotional Stage  \n\nJoin us on Fridays for entertaining nights and endless wins\, where you can dance the night away while also winning Mardi Gras prizes from the DJ!
URL:https://www.mardigrascasinowv.com/event/entertaining-nights-endless-wins/2025-02-07/
CATEGORIES:Live Entertainment
ATTACH;FMTTYPE=image/jpeg:https://www.mardigrascasinowv.com/wp-content/uploads/2024/10/GMMAR6964_EntertainingNights_Web-Promo-300x500-1.jpg
END:VEVENT
BEGIN:VEVENT
DTSTART;VALUE=DATE:20250208
DTEND;VALUE=DATE:20250209
DTSTAMP:20260425T064357
CREATED:20240723T175213Z
LAST-MODIFIED:20250225T181822Z
UID:10000585-1738972800-1739059199@www.mardigrascasinowv.com
SUMMARY:Louie's Lounge
DESCRIPTION:Free Entertainment at Louie’s Lounge\n\n\nFebruary 2025\nFriday\, February 28 | 8pm – Midnight\nGolden \n\nMarch 2025\nSaturday\, March 1 | 8pm – Midnight\nBent Whiskey\nFriday\, March 7 | 8pm – Midnight\nAmos Steel\nSaturday\, March 8 | 8pm – Midnight\nRestless\nFriday\, March 14 | 8pm – Midnight\nNon-Friction\nSaturday\, March 15 | 8pm – Midnight\nAAA Entertainment\nFriday\, March 21 | 8pm – Midnight\nBlack Sheep\nSaturday\, March 22 | 8pm – Midnight\nSanta Cruz\nFriday\, March 28 | 8pm – Midnight\nGolden\nSaturday\, March 29 | 8pm – Midnight\nAdam Parker and The Bourbon Cowboys \n 
URL:https://www.mardigrascasinowv.com/event/louies-lounge/2025-02-08/
CATEGORIES:Live Entertainment
ATTACH;FMTTYPE=image/jpeg:https://www.mardigrascasinowv.com/wp-content/uploads/2024/07/MG-Louies-Entertainment-promo.jpg
END:VEVENT
BEGIN:VEVENT
DTSTART;TZID=America/New_York:20250208T150000
DTEND;TZID=America/New_York:20250208T220000
DTSTAMP:20260425T064357
CREATED:20250130T215943Z
LAST-MODIFIED:20250130T215943Z
UID:10000579-1739026800-1739052000@www.mardigrascasinowv.com
SUMMARY:Cupid's Shuffle
DESCRIPTION:Saturdays | 3pm–10pm \n\nSlide into Love & Luck!\n3pm to 9pm | Four winners will compete in head-to-head matches for a chance at $500 Free Play! \n10pm Finale | Four winners will compete in head-to-head competition for a chance at our top prize of $2\,000 CASH!
URL:https://www.mardigrascasinowv.com/event/cupids-shuffle/2025-02-08/
CATEGORIES:Casino Gaming Promotions
ATTACH;FMTTYPE=image/jpeg:https://www.mardigrascasinowv.com/wp-content/uploads/2025/01/GMAR7117_CupidsShuffle_Web-Promo-300x250_Jan25_v1.jpg
END:VEVENT
BEGIN:VEVENT
DTSTART;TZID=America/New_York:20250208T220000
DTEND;TZID=America/New_York:20250208T235900
DTSTAMP:20260425T064357
CREATED:20250131T150237Z
LAST-MODIFIED:20250131T150308Z
UID:10000626-1739052000-1739059140@www.mardigrascasinowv.com
SUMMARY:UFC 312
DESCRIPTION:Saturday\, February 8 at 10pm\n\n\nTwo Title Fights\nWorld Middleweight Championship \nDu Plessis vs. Strickland 2 \nWorld Strawweight Championship \nZhang vs. Suarez \n\n\nDrink Special\nUFC Paloma | $10 \nJose Cuervo\, grapefruit juice\, agave and a hint of lime. Served in a souvenir cup. \nOnly available during the fight on February 8. \n\n\nThe one-two punch of UFC and Betly\nYou can wager on hard-hitting UFC action at the Betly Sportsbook at Mardi Gras Casino & Resort. \nCan’t watch & wager with us in person? The Betly app lets you wager and win real money right from your phone or desktop computer. Betly is the undisputed champ of online betting. Download Now.
URL:https://www.mardigrascasinowv.com/event/ufc-312/
CATEGORIES:UFC
ATTACH;FMTTYPE=image/jpeg:https://www.mardigrascasinowv.com/wp-content/uploads/2025/01/MG-UFC.jpg
END:VEVENT
BEGIN:VEVENT
DTSTART;TZID=America/New_York:20250209T090000
DTEND;TZID=America/New_York:20250209T235900
DTSTAMP:20260425T064357
CREATED:20250130T220409Z
LAST-MODIFIED:20250130T220409Z
UID:10000614-1739091600-1739145540@www.mardigrascasinowv.com
SUMMARY:Cupid's Heart Match Kiosk Game
DESCRIPTION:Sundays | 9am–Midnight \n\nEarn 100 points to play a kiosk game at any promotional kiosk for the chance to win up to $2\,500 Free Play! \nEarn and Play up to 3 times!
URL:https://www.mardigrascasinowv.com/event/cupids-heart-match-kiosk-game/2025-02-09/
CATEGORIES:Casino Gaming Promotions
ATTACH;FMTTYPE=image/jpeg:https://www.mardigrascasinowv.com/wp-content/uploads/2025/01/GMAR7117_CupidsHeartKiosk_Web-Promo-300x250_Jan25_v1.jpg
END:VEVENT
BEGIN:VEVENT
DTSTART;TZID=America/New_York:20250210T090000
DTEND;TZID=America/New_York:20250210T235900
DTSTAMP:20260425T064357
CREATED:20250130T220917Z
LAST-MODIFIED:20250204T143159Z
UID:10000618-1739178000-1739231940@www.mardigrascasinowv.com
SUMMARY:Cupid's Food Credit
DESCRIPTION:Mondays | 9am–Midnight \n\nJoin us on Mondays in February\, earn 100 points and get a $15 Food Credit to be used all week! \n\nPresidents’ Day | Monday\, February 17  \nCome in and earn 50 points to get a scratch off card worth up to $1\,000 Free Play! \n\nThis promotion is not administered or sponsored by the West Virginia Lottery.
URL:https://www.mardigrascasinowv.com/event/cupids-food-credit/2025-02-10/
CATEGORIES:Casino Gaming Promotions,Dining Promotions
ATTACH;FMTTYPE=image/jpeg:https://www.mardigrascasinowv.com/wp-content/uploads/2025/01/GMAR7117_CupidsFoodCredit_Web-Promo-300x250_Jan25_v1.jpg
END:VEVENT
BEGIN:VEVENT
DTSTART;TZID=America/New_York:20250211T090000
DTEND;TZID=America/New_York:20250211T235900
DTSTAMP:20260425T064357
CREATED:20250130T221204Z
LAST-MODIFIED:20250130T221204Z
UID:10000606-1739264400-1739318340@www.mardigrascasinowv.com
SUMMARY:Sweetheart Multiplier
DESCRIPTION:Tuesdays | 9am–Midnight \n\nJoin us each week in February\, and you can earn up to five times the amount of points four weeks in a row! \nWeek 1: X2 | Week 2: X3 | Week 3: X4 | Week 4: X5 \n\nPlayers must come in four weeks in a row to earn the max five times multiplier.
URL:https://www.mardigrascasinowv.com/event/sweetheart-multiplier/2025-02-11/
CATEGORIES:Casino Gaming Promotions
ATTACH;FMTTYPE=image/jpeg:https://www.mardigrascasinowv.com/wp-content/uploads/2025/01/GMAR7117_ProgressiveMulti_Web-Promo-300x300x250_Jan25_v1.jpg
END:VEVENT
BEGIN:VEVENT
DTSTART;TZID=UTC:20250212T090000
DTEND;TZID=UTC:20250212T235900
DTSTAMP:20260425T064357
CREATED:20240709T013620Z
LAST-MODIFIED:20250121T212725Z
UID:10000602-1739350800-1739404740@www.mardigrascasinowv.com
SUMMARY:50 Plus Winsdays
DESCRIPTION:Wednesdays | 9am–Midnight \n\nFor members age 50+ \n50+ members who earn 100 points are eligible to play a kiosk game for a chance to win up to $1\,000 in Free Play!
URL:https://www.mardigrascasinowv.com/event/50-plus-winsdays/2025-02-12/
CATEGORIES:Casino Gaming Promotions
ATTACH;FMTTYPE=image/jpeg:https://www.mardigrascasinowv.com/wp-content/uploads/2024/07/MG-50-Plus-promo.jpg
END:VEVENT
BEGIN:VEVENT
DTSTART;TZID=America/New_York:20250213T150000
DTEND;TZID=America/New_York:20250213T210000
DTSTAMP:20260425T064357
CREATED:20250130T221351Z
LAST-MODIFIED:20250130T221351Z
UID:10000610-1739458800-1739480400@www.mardigrascasinowv.com
SUMMARY:Gifts of Love Giveaway
DESCRIPTION:Thursdays | 3pm–9pm \n\nEarn 100 points\, print your voucher at any promotional kiosk and stop by the promotional stage to redeem your free gift.
URL:https://www.mardigrascasinowv.com/event/gifts-of-love-giveaway/2025-02-13/
CATEGORIES:Casino Gaming Promotions
ATTACH;FMTTYPE=image/jpeg:https://www.mardigrascasinowv.com/wp-content/uploads/2025/01/GMAR7117_GiftGiveaway_WebPromo_300x250_Jan25_v1.jpg
END:VEVENT
BEGIN:VEVENT
DTSTART;TZID=America/New_York:20250214T090000
DTEND;TZID=America/New_York:20250214T235900
DTSTAMP:20260425T064357
CREATED:20250130T221528Z
LAST-MODIFIED:20250130T221528Z
UID:10000598-1739523600-1739577540@www.mardigrascasinowv.com
SUMMARY:Cupid's $1\,000 Touchdown Challenge
DESCRIPTION:Fridays | 9am–Midnight \n\nFor each 50 points earned (up to 15 times)\, play a kiosk game for up to $1\,000 in Free Play and prizes!
URL:https://www.mardigrascasinowv.com/event/cupids-1000-touchdown-challenge/2025-02-14/
CATEGORIES:Casino Gaming Promotions
ATTACH;FMTTYPE=image/jpeg:https://www.mardigrascasinowv.com/wp-content/uploads/2025/01/GMAR7117_CupidsTouchdown_Web-Promo-300x250_Jan25_v1.jpg
END:VEVENT
BEGIN:VEVENT
DTSTART;TZID=America/New_York:20250214T170000
DTEND;TZID=America/New_York:20250214T220000
DTSTAMP:20260425T064357
CREATED:20250131T135530Z
LAST-MODIFIED:20250131T141710Z
UID:10000591-1739552400-1739570400@www.mardigrascasinowv.com
SUMMARY:French Quarter – Valentine's Day Opulence
DESCRIPTION:Friday\, February 14 | 5pm–10pm \n\n\nBeet-Cured Salmon Gravlax & Wagyu Strip Loin | $65\nServed with truffle-infused potato pave and roasted baby carrots. \n  \nServed only at the French Quarter.
URL:https://www.mardigrascasinowv.com/event/french-quarter-valentines-day-opulence/
CATEGORIES:Dining Promotions
ATTACH;FMTTYPE=image/jpeg:https://www.mardigrascasinowv.com/wp-content/uploads/2025/01/GMAR7117_FQValentinesDay_WebPromo_300x250_Jan25_v1.jpg
END:VEVENT
END:VCALENDAR