BEGIN:VCALENDAR
VERSION:2.0
PRODID:-//Mardi Gras Casino - ECPv6.15.20//NONSGML v1.0//EN
CALSCALE:GREGORIAN
METHOD:PUBLISH
X-WR-CALNAME:Mardi Gras Casino
X-ORIGINAL-URL:https://www.mardigrascasinowv.com
X-WR-CALDESC:Events for Mardi Gras Casino
REFRESH-INTERVAL;VALUE=DURATION:PT1H
X-Robots-Tag:noindex
X-PUBLISHED-TTL:PT1H
BEGIN:VTIMEZONE
TZID:America/New_York
BEGIN:DAYLIGHT
TZOFFSETFROM:-0500
TZOFFSETTO:-0400
TZNAME:EDT
DTSTART:20250309T070000
END:DAYLIGHT
BEGIN:STANDARD
TZOFFSETFROM:-0400
TZOFFSETTO:-0500
TZNAME:EST
DTSTART:20251102T060000
END:STANDARD
BEGIN:DAYLIGHT
TZOFFSETFROM:-0500
TZOFFSETTO:-0400
TZNAME:EDT
DTSTART:20260308T070000
END:DAYLIGHT
BEGIN:STANDARD
TZOFFSETFROM:-0400
TZOFFSETTO:-0500
TZNAME:EST
DTSTART:20261101T060000
END:STANDARD
BEGIN:DAYLIGHT
TZOFFSETFROM:-0500
TZOFFSETTO:-0400
TZNAME:EDT
DTSTART:20270314T070000
END:DAYLIGHT
BEGIN:STANDARD
TZOFFSETFROM:-0400
TZOFFSETTO:-0500
TZNAME:EST
DTSTART:20271107T060000
END:STANDARD
END:VTIMEZONE
BEGIN:VEVENT
DTSTART;VALUE=DATE:20260501
DTEND;VALUE=DATE:20260601
DTSTAMP:20260424T002336
CREATED:20260422T151049Z
LAST-MODIFIED:20260422T151049Z
UID:10001984-1777593600-1780271999@www.mardigrascasinowv.com
SUMMARY:Cafe Orleans May Speical
DESCRIPTION:The Shaggy | $14.99  \nSmoked ham\, roasted turkey\, hard salami\, crispy applewood bacon\, provolone\, swiss\, shredded lettuce\, ripe tomato\, and our secret sauce\, piled sky-high on a fresh-baked Brunetti’s hoagie roll. \nThis one means business.
URL:https://www.mardigrascasinowv.com/event/cafe-orleans-may-speical/
CATEGORIES:Dining Promotions
ATTACH;FMTTYPE=image/jpeg:https://www.mardigrascasinowv.com/wp-content/uploads/2026/04/DN-6108-GMG_CafeOrleans_Web-Promo-300x500_Apr26_V1.jpg
END:VEVENT
BEGIN:VEVENT
DTSTART;VALUE=DATE:20260501
DTEND;VALUE=DATE:20260601
DTSTAMP:20260424T002336
CREATED:20260422T151331Z
LAST-MODIFIED:20260422T151331Z
UID:10001985-1777593600-1780271999@www.mardigrascasinowv.com
SUMMARY:French Quarter May Special
DESCRIPTION:Denver Steak \nThick-cut from the chuck’s hidden tender\, marbled like a ribeye’s quieter cousin. Open-flame grilled\, rested in drawn butter\, served over herb-whipped Yukon golds. A butcher’s cut made public.
URL:https://www.mardigrascasinowv.com/event/french-quarter-may-special-2/
CATEGORIES:Dining Promotions
ATTACH;FMTTYPE=image/jpeg:https://www.mardigrascasinowv.com/wp-content/uploads/2026/04/DN-6108-GMG_FrenchQuarter_Web-Promo-300x500_Apr26_V1.jpg
END:VEVENT
END:VCALENDAR