BEGIN:VCALENDAR
VERSION:2.0
PRODID:-//Mardi Gras Casino - ECPv6.15.20//NONSGML v1.0//EN
CALSCALE:GREGORIAN
METHOD:PUBLISH
X-WR-CALNAME:Mardi Gras Casino
X-ORIGINAL-URL:https://www.mardigrascasinowv.com
X-WR-CALDESC:Events for Mardi Gras Casino
REFRESH-INTERVAL;VALUE=DURATION:PT1H
X-Robots-Tag:noindex
X-PUBLISHED-TTL:PT1H
BEGIN:VTIMEZONE
TZID:America/New_York
BEGIN:DAYLIGHT
TZOFFSETFROM:-0500
TZOFFSETTO:-0400
TZNAME:EDT
DTSTART:20240310T070000
END:DAYLIGHT
BEGIN:STANDARD
TZOFFSETFROM:-0400
TZOFFSETTO:-0500
TZNAME:EST
DTSTART:20241103T060000
END:STANDARD
BEGIN:DAYLIGHT
TZOFFSETFROM:-0500
TZOFFSETTO:-0400
TZNAME:EDT
DTSTART:20250309T070000
END:DAYLIGHT
BEGIN:STANDARD
TZOFFSETFROM:-0400
TZOFFSETTO:-0500
TZNAME:EST
DTSTART:20251102T060000
END:STANDARD
BEGIN:DAYLIGHT
TZOFFSETFROM:-0500
TZOFFSETTO:-0400
TZNAME:EDT
DTSTART:20260308T070000
END:DAYLIGHT
BEGIN:STANDARD
TZOFFSETFROM:-0400
TZOFFSETTO:-0500
TZNAME:EST
DTSTART:20261101T060000
END:STANDARD
BEGIN:DAYLIGHT
TZOFFSETFROM:-0500
TZOFFSETTO:-0400
TZNAME:EDT
DTSTART:20270314T070000
END:DAYLIGHT
BEGIN:STANDARD
TZOFFSETFROM:-0400
TZOFFSETTO:-0500
TZNAME:EST
DTSTART:20271107T060000
END:STANDARD
END:VTIMEZONE
BEGIN:VEVENT
DTSTART;VALUE=DATE:20251101
DTEND;VALUE=DATE:20260601
DTSTAMP:20260425T063712
CREATED:20251024T201728Z
LAST-MODIFIED:20260422T145622Z
UID:10001379-1761955200-1780271999@www.mardigrascasinowv.com
SUMMARY:Blackjack For Just $5
DESCRIPTION:Double down on excitement all week long. Play $5 blackjack with only a 25¢ ante.The cost is low but the entertainment value is sky-high. \nAvailable weekdays upon request.
URL:https://www.mardigrascasinowv.com/event/blackjack-for-just-5/
CATEGORIES:Casino Gaming Promotions
ATTACH;FMTTYPE=image/jpeg:https://www.mardigrascasinowv.com/wp-content/uploads/2025/06/GMAR7354_Blackjack_Web-Promo-300x500_Jun25_V1.jpg
END:VEVENT
BEGIN:VEVENT
DTSTART;VALUE=DATE:20251101
DTEND;VALUE=DATE:20260601
DTSTAMP:20260425T063712
CREATED:20251024T190834Z
LAST-MODIFIED:20260422T171049Z
UID:10001380-1761955200-1780271999@www.mardigrascasinowv.com
SUMMARY:Random Hot Seat Drawings
DESCRIPTION:Once per week\, one table player will be randomly chosen to win $100 in promo chips\, with their table getting $25 in promo chips per person! \nRules & Regulations (pdf)
URL:https://www.mardigrascasinowv.com/event/random-hot-seat-drawings/
CATEGORIES:Casino Gaming Promotions
ATTACH;FMTTYPE=image/jpeg:https://www.mardigrascasinowv.com/wp-content/uploads/2025/10/GMAR7551_RandomHotSeatDrawings_Web_300x250_Oct25_V1.jpg
END:VEVENT
BEGIN:VEVENT
DTSTART;TZID=America/New_York:20260425T150000
DTEND;TZID=America/New_York:20260425T220000
DTSTAMP:20260425T063712
CREATED:20260323T185734Z
LAST-MODIFIED:20260330T135936Z
UID:10001890-1777129200-1777154400@www.mardigrascasinowv.com
SUMMARY:Money Machine Mania
DESCRIPTION:Saturdays in April \nEarn entries as you play slots or table games with your Lucky North® Rewards card every day beginning Sunday\, March 29. Activate your entries for any drawing by playing or swiping at a promotional kiosk within one hour of any drawing time! \n3pm–10pm | At the top of every hour\, four lucky winners will step inside the money machine for a chance to catch bundles of Free Play! \nSaturday\, April 25 – 11pm | Get ready to win big! Three winners will have a shot to compete in the finale for a share of up to $25\,000 CASH! \nApril 4 @ 3:00 pm – 10:00 pm\nDrawing Day Collect & Win\nDiamond & Black Diamond members | April 4\, 11 & 18 | 10:30pm & 11pm\nPrint your ticket from a promotional kiosk starting at 3pm. Put it in the barrel near the promotional stage at 9:30pm for your chance at $1\,000 Free Play. \nRules & Regulations (pdf)
URL:https://www.mardigrascasinowv.com/event/money-machine-mania-2026/2026-04-25/
CATEGORIES:Casino Gaming Promotions
ATTACH;FMTTYPE=image/jpeg:https://www.mardigrascasinowv.com/wp-content/uploads/2026/03/DN-4910_GMG_MoneymachineMania_Web-Promo-300x250March26_V1.jpg
END:VEVENT
BEGIN:VEVENT
DTSTART;TZID=America/New_York:20260427T090000
DTEND;TZID=America/New_York:20260427T090000
DTSTAMP:20260425T063712
CREATED:20251024T182257Z
LAST-MODIFIED:20260422T165829Z
UID:10001918-1777280400-1777280400@www.mardigrascasinowv.com
SUMMARY:Table Games Multiplier
DESCRIPTION:Mondays & Tuesdays | 9am – Midnight | Earn a 2x Multiplier! \n\nPlay any table game on Monday and/or Tuesday to be eligible. Then come back the following Monday and/or Tuesday to start multiplying points. Just visit any promotional kiosk to activate. \nAs long as you don’t break your streak\, you’ll get 2x points! \nRules & Regulations (pdf)
URL:https://www.mardigrascasinowv.com/event/table-games-multiplier/2026-04-27/
CATEGORIES:Casino Gaming Promotions
ATTACH;FMTTYPE=image/jpeg:https://www.mardigrascasinowv.com/wp-content/uploads/2025/10/GMAR7551_TableGamesMultiplier_Web-Promo-300x250_Oct25_V1.jpg
END:VEVENT
BEGIN:VEVENT
DTSTART;TZID=America/New_York:20260427T090000
DTEND;TZID=America/New_York:20260427T235900
DTSTAMP:20260425T063712
CREATED:20251224T153545Z
LAST-MODIFIED:20260422T170720Z
UID:10001911-1777280400-1777334340@www.mardigrascasinowv.com
SUMMARY:Climb The Ladder Kiosk Game
DESCRIPTION:Mondays | 9am–Midnight \n\nEarn points as you play slots or table games with your Lucky North® Rewards card. Swipe at any promotional kiosk\, climbing the ladder to reach the next reward level. Play all seven levels for your shot at the top prize. \n100 – 199 points: Win up to $50 Free Play\n200 – 299 points: Win up to $250 Free Play\n300 – 399 points: Win up to $500 Free Play\n400 – 499 points: Win up to $750 Free Play\n500 – 749 points: Win up to $1\,000 Free Play\n750 – 999 points: Win up to $2\,500 Free Play\n1\,000+ points: Win up to $5\,000 Free Play \nRules & Regulations (pdf)
URL:https://www.mardigrascasinowv.com/event/climb-the-ladder-kiosk-game/2026-04-27/
CATEGORIES:Casino Gaming Promotions
ATTACH;FMTTYPE=image/jpeg:https://www.mardigrascasinowv.com/wp-content/uploads/2025/12/DN-452-GMG_ClimbTheLadderWebPromo_300x500_Dec25_V1.jpg
END:VEVENT
BEGIN:VEVENT
DTSTART;TZID=America/New_York:20260428T090000
DTEND;TZID=America/New_York:20260428T090000
DTSTAMP:20260425T063712
CREATED:20251024T182257Z
LAST-MODIFIED:20260422T165829Z
UID:10001919-1777366800-1777366800@www.mardigrascasinowv.com
SUMMARY:Table Games Multiplier
DESCRIPTION:Mondays & Tuesdays | 9am – Midnight | Earn a 2x Multiplier! \n\nPlay any table game on Monday and/or Tuesday to be eligible. Then come back the following Monday and/or Tuesday to start multiplying points. Just visit any promotional kiosk to activate. \nAs long as you don’t break your streak\, you’ll get 2x points! \nRules & Regulations (pdf)
URL:https://www.mardigrascasinowv.com/event/table-games-multiplier/2026-04-28/
CATEGORIES:Casino Gaming Promotions
ATTACH;FMTTYPE=image/jpeg:https://www.mardigrascasinowv.com/wp-content/uploads/2025/10/GMAR7551_TableGamesMultiplier_Web-Promo-300x250_Oct25_V1.jpg
END:VEVENT
BEGIN:VEVENT
DTSTART;TZID=America/New_York:20260428T090000
DTEND;TZID=America/New_York:20260428T090000
DTSTAMP:20260425T063712
CREATED:20260107T205029Z
LAST-MODIFIED:20260422T165343Z
UID:10001923-1777366800-1777366800@www.mardigrascasinowv.com
SUMMARY:Tiersday Kiosk Game
DESCRIPTION:Tuesdays | 9am – Midnight\n \n\nEnjoy kiosk games tailored to your tier level to win Free Play rewards. Simply earn 150 points each time to participate up to 5X! \nRuby | Up to $1\,000 \nEmerald/Sapphire | Up to $2\,500 \nDiamond/Black Diamond | Up to $5\,000 \nRules & Regulations (pdf)
URL:https://www.mardigrascasinowv.com/event/tiersday-kiosk-game-2/2026-04-28/
CATEGORIES:Casino Gaming Promotions
ATTACH;FMTTYPE=image/jpeg:https://www.mardigrascasinowv.com/wp-content/uploads/2025/10/GMAR7551_TiersdayKioskGame_WebPromo_300x250_Oct25_V1.jpg
END:VEVENT
BEGIN:VEVENT
DTSTART;TZID=America/New_York:20260428T090000
DTEND;TZID=America/New_York:20260428T090000
DTSTAMP:20260425T063712
CREATED:20260323T191601Z
LAST-MODIFIED:20260422T170957Z
UID:10001895-1777366800-1777366800@www.mardigrascasinowv.com
SUMMARY:50+ Lucky Legends
DESCRIPTION:Tuesdays | 9am – Midnight \n\nOur 50+ members receive a 3x multiplier! Plus\, receive half off combos at Café Orleans from 11am to 2pm. \nCafé Orleans discount limit one per person. Print voucher at promotional kiosk. \nRules & Regulations (pdf)
URL:https://www.mardigrascasinowv.com/event/50-plus-lucky-legends-6/2026-04-28/
CATEGORIES:Casino Gaming Promotions
ATTACH;FMTTYPE=image/jpeg:https://www.mardigrascasinowv.com/wp-content/uploads/2025/10/GMAR7551_LuckyLegends_Web_300x500_Oct25_V1.jpg
END:VEVENT
BEGIN:VEVENT
DTSTART;TZID=America/New_York:20260429T140000
DTEND;TZID=America/New_York:20260429T200000
DTSTAMP:20260425T063712
CREATED:20251231T195517Z
LAST-MODIFIED:20260422T165921Z
UID:10001899-1777471200-1777492800@www.mardigrascasinowv.com
SUMMARY:Sit & Go Slot Tournament
DESCRIPTION:Wednesdays | 2pm – 8pm\n \n\nRuby\, Emerald & Sapphire members get one free entry\, while Diamond and Black Diamond members receive two. For additional chances to enter\, earn 50 base points up to\nthree times from 9am to 8pm. Swipe your Lucky North® Rewards card at any promotional kiosk and take entries to the promotional stage to play. The top 15 scores in each round claim a win\, with the high score receiving $500 Free Play! \nTournament Round Times\n2pm–4pm\, 4pm–6pm & 6pm–8pm\nPlay in one or all! The top 50 players from each event will be invited back for our finale on Saturday\, June 6\, from 4pm to 6pm for a chance to win $2\,500 Free Play. \nRules & Regulations (pdf)
URL:https://www.mardigrascasinowv.com/event/sit-go-slot-tournament-2/2026-04-29/
CATEGORIES:Casino Gaming Promotions
ATTACH;FMTTYPE=image/jpeg:https://www.mardigrascasinowv.com/wp-content/uploads/2025/11/GMAR7590_SitGoTournament_Web-Promo-300x500-1.jpg
END:VEVENT
BEGIN:VEVENT
DTSTART;TZID=America/New_York:20260430T150000
DTEND;TZID=America/New_York:20260430T210000
DTSTAMP:20260425T063712
CREATED:20251224T153615Z
LAST-MODIFIED:20260422T165651Z
UID:10001903-1777561200-1777582800@www.mardigrascasinowv.com
SUMMARY:Earn & Get Thursday Gift Giveaway
DESCRIPTION:Thursdays | 3pm–9pm\n \n\nEarn 200 points\, print your voucher at any promotional kiosk and stop by the promotional stage to redeem your gift! \nRules & Regulations (pdf)
URL:https://www.mardigrascasinowv.com/event/earn-and-get-thursday-gift-giveaway/2026-04-30/
CATEGORIES:Casino Gaming Promotions
ATTACH;FMTTYPE=image/jpeg:https://www.mardigrascasinowv.com/wp-content/uploads/2025/12/DN-452-GMG_GiftGiveawayWeb-Promo-300x500_Dec25_V1.jpg
END:VEVENT
END:VCALENDAR