BEGIN:VCALENDAR
VERSION:2.0
PRODID:-//Mardi Gras Casino - ECPv6.15.20//NONSGML v1.0//EN
CALSCALE:GREGORIAN
METHOD:PUBLISH
X-ORIGINAL-URL:https://www.mardigrascasinowv.com
X-WR-CALDESC:Events for Mardi Gras Casino
REFRESH-INTERVAL;VALUE=DURATION:PT1H
X-Robots-Tag:noindex
X-PUBLISHED-TTL:PT1H
BEGIN:VTIMEZONE
TZID:America/New_York
BEGIN:DAYLIGHT
TZOFFSETFROM:-0500
TZOFFSETTO:-0400
TZNAME:EDT
DTSTART:20240310T070000
END:DAYLIGHT
BEGIN:STANDARD
TZOFFSETFROM:-0400
TZOFFSETTO:-0500
TZNAME:EST
DTSTART:20241103T060000
END:STANDARD
BEGIN:DAYLIGHT
TZOFFSETFROM:-0500
TZOFFSETTO:-0400
TZNAME:EDT
DTSTART:20250309T070000
END:DAYLIGHT
BEGIN:STANDARD
TZOFFSETFROM:-0400
TZOFFSETTO:-0500
TZNAME:EST
DTSTART:20251102T060000
END:STANDARD
BEGIN:DAYLIGHT
TZOFFSETFROM:-0500
TZOFFSETTO:-0400
TZNAME:EDT
DTSTART:20260308T070000
END:DAYLIGHT
BEGIN:STANDARD
TZOFFSETFROM:-0400
TZOFFSETTO:-0500
TZNAME:EST
DTSTART:20261101T060000
END:STANDARD
BEGIN:DAYLIGHT
TZOFFSETFROM:-0500
TZOFFSETTO:-0400
TZNAME:EDT
DTSTART:20270314T070000
END:DAYLIGHT
BEGIN:STANDARD
TZOFFSETFROM:-0400
TZOFFSETTO:-0500
TZNAME:EST
DTSTART:20271107T060000
END:STANDARD
END:VTIMEZONE
BEGIN:VEVENT
DTSTART;VALUE=DATE:20251101
DTEND;VALUE=DATE:20260601
DTSTAMP:20260423T152505
CREATED:20251024T201728Z
LAST-MODIFIED:20260422T145622Z
UID:10001379-1761955200-1780271999@www.mardigrascasinowv.com
SUMMARY:Blackjack For Just $5
DESCRIPTION:Double down on excitement all week long. Play $5 blackjack with only a 25¢ ante.The cost is low but the entertainment value is sky-high. \nAvailable weekdays upon request.
URL:https://www.mardigrascasinowv.com/event/blackjack-for-just-5/
CATEGORIES:Casino Gaming Promotions
ATTACH;FMTTYPE=image/jpeg:https://www.mardigrascasinowv.com/wp-content/uploads/2025/06/GMAR7354_Blackjack_Web-Promo-300x500_Jun25_V1.jpg
END:VEVENT
BEGIN:VEVENT
DTSTART;VALUE=DATE:20251101
DTEND;VALUE=DATE:20260601
DTSTAMP:20260423T152505
CREATED:20251024T190834Z
LAST-MODIFIED:20260422T171049Z
UID:10001380-1761955200-1780271999@www.mardigrascasinowv.com
SUMMARY:Random Hot Seat Drawings
DESCRIPTION:Once per week\, one table player will be randomly chosen to win $100 in promo chips\, with their table getting $25 in promo chips per person! \nRules & Regulations (pdf)
URL:https://www.mardigrascasinowv.com/event/random-hot-seat-drawings/
CATEGORIES:Casino Gaming Promotions
ATTACH;FMTTYPE=image/jpeg:https://www.mardigrascasinowv.com/wp-content/uploads/2025/10/GMAR7551_RandomHotSeatDrawings_Web_300x250_Oct25_V1.jpg
END:VEVENT
BEGIN:VEVENT
DTSTART;TZID=America/New_York:20260422T140000
DTEND;TZID=America/New_York:20260422T200000
DTSTAMP:20260423T152505
CREATED:20251231T195517Z
LAST-MODIFIED:20260422T165921Z
UID:10001898-1776866400-1776888000@www.mardigrascasinowv.com
SUMMARY:Sit & Go Slot Tournament
DESCRIPTION:Wednesdays | 2pm – 8pm\n \n\nRuby\, Emerald & Sapphire members get one free entry\, while Diamond and Black Diamond members receive two. For additional chances to enter\, earn 50 base points up to\nthree times from 9am to 8pm. Swipe your Lucky North® Rewards card at any promotional kiosk and take entries to the promotional stage to play. The top 15 scores in each round claim a win\, with the high score receiving $500 Free Play! \nTournament Round Times\n2pm–4pm\, 4pm–6pm & 6pm–8pm\nPlay in one or all! The top 50 players from each event will be invited back for our finale on Saturday\, June 6\, from 4pm to 6pm for a chance to win $2\,500 Free Play. \nRules & Regulations (pdf)
URL:https://www.mardigrascasinowv.com/event/sit-go-slot-tournament-2/2026-04-22/
CATEGORIES:Casino Gaming Promotions
ATTACH;FMTTYPE=image/jpeg:https://www.mardigrascasinowv.com/wp-content/uploads/2025/11/GMAR7590_SitGoTournament_Web-Promo-300x500-1.jpg
END:VEVENT
END:VCALENDAR