BEGIN:VCALENDAR
VERSION:2.0
PRODID:-//Mardi Gras Casino - ECPv6.15.20//NONSGML v1.0//EN
CALSCALE:GREGORIAN
METHOD:PUBLISH
X-ORIGINAL-URL:https://www.mardigrascasinowv.com
X-WR-CALDESC:Events for Mardi Gras Casino
REFRESH-INTERVAL;VALUE=DURATION:PT1H
X-Robots-Tag:noindex
X-PUBLISHED-TTL:PT1H
BEGIN:VTIMEZONE
TZID:America/New_York
BEGIN:DAYLIGHT
TZOFFSETFROM:-0500
TZOFFSETTO:-0400
TZNAME:EDT
DTSTART:20240310T070000
END:DAYLIGHT
BEGIN:STANDARD
TZOFFSETFROM:-0400
TZOFFSETTO:-0500
TZNAME:EST
DTSTART:20241103T060000
END:STANDARD
BEGIN:DAYLIGHT
TZOFFSETFROM:-0500
TZOFFSETTO:-0400
TZNAME:EDT
DTSTART:20250309T070000
END:DAYLIGHT
BEGIN:STANDARD
TZOFFSETFROM:-0400
TZOFFSETTO:-0500
TZNAME:EST
DTSTART:20251102T060000
END:STANDARD
BEGIN:DAYLIGHT
TZOFFSETFROM:-0500
TZOFFSETTO:-0400
TZNAME:EDT
DTSTART:20260308T070000
END:DAYLIGHT
BEGIN:STANDARD
TZOFFSETFROM:-0400
TZOFFSETTO:-0500
TZNAME:EST
DTSTART:20261101T060000
END:STANDARD
BEGIN:DAYLIGHT
TZOFFSETFROM:-0500
TZOFFSETTO:-0400
TZNAME:EDT
DTSTART:20270314T070000
END:DAYLIGHT
BEGIN:STANDARD
TZOFFSETFROM:-0400
TZOFFSETTO:-0500
TZNAME:EST
DTSTART:20271107T060000
END:STANDARD
END:VTIMEZONE
BEGIN:VEVENT
DTSTART;VALUE=DATE:20251101
DTEND;VALUE=DATE:20260601
DTSTAMP:20260423T063311
CREATED:20251024T201728Z
LAST-MODIFIED:20260422T145622Z
UID:10001379-1761955200-1780271999@www.mardigrascasinowv.com
SUMMARY:Blackjack For Just $5
DESCRIPTION:Double down on excitement all week long. Play $5 blackjack with only a 25¢ ante.The cost is low but the entertainment value is sky-high. \nAvailable weekdays upon request.
URL:https://www.mardigrascasinowv.com/event/blackjack-for-just-5/
CATEGORIES:Casino Gaming Promotions
ATTACH;FMTTYPE=image/jpeg:https://www.mardigrascasinowv.com/wp-content/uploads/2025/06/GMAR7354_Blackjack_Web-Promo-300x500_Jun25_V1.jpg
END:VEVENT
BEGIN:VEVENT
DTSTART;VALUE=DATE:20251101
DTEND;VALUE=DATE:20260601
DTSTAMP:20260423T063311
CREATED:20251024T190834Z
LAST-MODIFIED:20260422T171049Z
UID:10001380-1761955200-1780271999@www.mardigrascasinowv.com
SUMMARY:Random Hot Seat Drawings
DESCRIPTION:Once per week\, one table player will be randomly chosen to win $100 in promo chips\, with their table getting $25 in promo chips per person! \nRules & Regulations (pdf)
URL:https://www.mardigrascasinowv.com/event/random-hot-seat-drawings/
CATEGORIES:Casino Gaming Promotions
ATTACH;FMTTYPE=image/jpeg:https://www.mardigrascasinowv.com/wp-content/uploads/2025/10/GMAR7551_RandomHotSeatDrawings_Web_300x250_Oct25_V1.jpg
END:VEVENT
BEGIN:VEVENT
DTSTART;TZID=America/New_York:20260414T090000
DTEND;TZID=America/New_York:20260414T090000
DTSTAMP:20260423T063311
CREATED:20251024T182257Z
LAST-MODIFIED:20260422T165829Z
UID:10001915-1776157200-1776157200@www.mardigrascasinowv.com
SUMMARY:Table Games Multiplier
DESCRIPTION:Mondays & Tuesdays | 9am – Midnight | Earn a 2x Multiplier! \n\nPlay any table game on Monday and/or Tuesday to be eligible. Then come back the following Monday and/or Tuesday to start multiplying points. Just visit any promotional kiosk to activate. \nAs long as you don’t break your streak\, you’ll get 2x points! \nRules & Regulations (pdf)
URL:https://www.mardigrascasinowv.com/event/table-games-multiplier/2026-04-14/
CATEGORIES:Casino Gaming Promotions
ATTACH;FMTTYPE=image/jpeg:https://www.mardigrascasinowv.com/wp-content/uploads/2025/10/GMAR7551_TableGamesMultiplier_Web-Promo-300x250_Oct25_V1.jpg
END:VEVENT
BEGIN:VEVENT
DTSTART;TZID=America/New_York:20260414T090000
DTEND;TZID=America/New_York:20260414T090000
DTSTAMP:20260423T063311
CREATED:20260107T205029Z
LAST-MODIFIED:20260422T165343Z
UID:10001921-1776157200-1776157200@www.mardigrascasinowv.com
SUMMARY:Tiersday Kiosk Game
DESCRIPTION:Tuesdays | 9am – Midnight\n \n\nEnjoy kiosk games tailored to your tier level to win Free Play rewards. Simply earn 150 points each time to participate up to 5X! \nRuby | Up to $1\,000 \nEmerald/Sapphire | Up to $2\,500 \nDiamond/Black Diamond | Up to $5\,000 \nRules & Regulations (pdf)
URL:https://www.mardigrascasinowv.com/event/tiersday-kiosk-game-2/2026-04-14/
CATEGORIES:Casino Gaming Promotions
ATTACH;FMTTYPE=image/jpeg:https://www.mardigrascasinowv.com/wp-content/uploads/2025/10/GMAR7551_TiersdayKioskGame_WebPromo_300x250_Oct25_V1.jpg
END:VEVENT
BEGIN:VEVENT
DTSTART;TZID=America/New_York:20260414T090000
DTEND;TZID=America/New_York:20260414T090000
DTSTAMP:20260423T063311
CREATED:20260323T191601Z
LAST-MODIFIED:20260422T170957Z
UID:10001893-1776157200-1776157200@www.mardigrascasinowv.com
SUMMARY:50+ Lucky Legends
DESCRIPTION:Tuesdays | 9am – Midnight \n\nOur 50+ members receive a 3x multiplier! Plus\, receive half off combos at Café Orleans from 11am to 2pm. \nCafé Orleans discount limit one per person. Print voucher at promotional kiosk. \nRules & Regulations (pdf)
URL:https://www.mardigrascasinowv.com/event/50-plus-lucky-legends-6/2026-04-14/
CATEGORIES:Casino Gaming Promotions
ATTACH;FMTTYPE=image/jpeg:https://www.mardigrascasinowv.com/wp-content/uploads/2025/10/GMAR7551_LuckyLegends_Web_300x500_Oct25_V1.jpg
END:VEVENT
END:VCALENDAR