BEGIN:VCALENDAR
VERSION:2.0
PRODID:-//Mardi Gras Casino - ECPv6.15.20//NONSGML v1.0//EN
CALSCALE:GREGORIAN
METHOD:PUBLISH
X-ORIGINAL-URL:https://www.mardigrascasinowv.com
X-WR-CALDESC:Events for Mardi Gras Casino
REFRESH-INTERVAL;VALUE=DURATION:PT1H
X-Robots-Tag:noindex
X-PUBLISHED-TTL:PT1H
BEGIN:VTIMEZONE
TZID:America/New_York
BEGIN:DAYLIGHT
TZOFFSETFROM:-0500
TZOFFSETTO:-0400
TZNAME:EDT
DTSTART:20240310T070000
END:DAYLIGHT
BEGIN:STANDARD
TZOFFSETFROM:-0400
TZOFFSETTO:-0500
TZNAME:EST
DTSTART:20241103T060000
END:STANDARD
BEGIN:DAYLIGHT
TZOFFSETFROM:-0500
TZOFFSETTO:-0400
TZNAME:EDT
DTSTART:20250309T070000
END:DAYLIGHT
BEGIN:STANDARD
TZOFFSETFROM:-0400
TZOFFSETTO:-0500
TZNAME:EST
DTSTART:20251102T060000
END:STANDARD
BEGIN:DAYLIGHT
TZOFFSETFROM:-0500
TZOFFSETTO:-0400
TZNAME:EDT
DTSTART:20260308T070000
END:DAYLIGHT
BEGIN:STANDARD
TZOFFSETFROM:-0400
TZOFFSETTO:-0500
TZNAME:EST
DTSTART:20261101T060000
END:STANDARD
BEGIN:DAYLIGHT
TZOFFSETFROM:-0500
TZOFFSETTO:-0400
TZNAME:EDT
DTSTART:20270314T070000
END:DAYLIGHT
BEGIN:STANDARD
TZOFFSETFROM:-0400
TZOFFSETTO:-0500
TZNAME:EST
DTSTART:20271107T060000
END:STANDARD
END:VTIMEZONE
BEGIN:VEVENT
DTSTART;TZID=America/New_York:20250623T090000
DTEND;TZID=America/New_York:20250922T090000
DTSTAMP:20260423T135615
CREATED:20250529T184923Z
LAST-MODIFIED:20250805T200617Z
UID:10000881-1750669200-1758531600@www.mardigrascasinowv.com
SUMMARY:Hot Days = Hotter Rewards
DESCRIPTION:June 23  – September 22 | 9am – Midnight\n\n  \nWhen the temperature hits 90° or higher\, Lucky North® Rewards members score an all-day multiplier!* The hotter it gets\, the more you earn! Watch the forecast and heat up your rewards this summer! \n*Valid Monday through Friday during the promotional period.
URL:https://www.mardigrascasinowv.com/event/hot-days-hotter-rewards/
CATEGORIES:Casino Gaming Promotions
ATTACH;FMTTYPE=image/jpeg:https://www.mardigrascasinowv.com/wp-content/uploads/2025/05/GMAR7354_HotterDays_Web-Promo-300x500_May25_V1.jpg
END:VEVENT
BEGIN:VEVENT
DTSTART;VALUE=DATE:20250701
DTEND;VALUE=DATE:20251201
DTSTAMP:20260423T135615
CREATED:20250701T161312Z
LAST-MODIFIED:20251024T180234Z
UID:10000957-1751328000-1764547199@www.mardigrascasinowv.com
SUMMARY:Honoring The Heroes Among Us
DESCRIPTION:Now Available\n\nWe are proud to recognize veterans\, active-duty military and first responders who serve and protect our community and country with our new HERO program! \nVisit the Lucky North® Rewards desk with required documents to receive your designation as a HERO member and unlock more benefits: \n\nCommemorative HERO card\nUpgrade to Emerald status*\nAccess to future HERO exclusive promotions\, offers and discounts.\n\nClick here for more information and required proof of status.
URL:https://www.mardigrascasinowv.com/event/honoring-the-heroes-among-us/
CATEGORIES:Casino Gaming Promotions
ATTACH;FMTTYPE=image/jpeg:https://www.mardigrascasinowv.com/wp-content/uploads/2025/06/GHAM7401_HeroCardLaunch_Web300x250_Jun25_V1.jpg
END:VEVENT
BEGIN:VEVENT
DTSTART;VALUE=DATE:20250902
DTEND;VALUE=DATE:20260111
DTSTAMP:20260423T135615
CREATED:20250827T165236Z
LAST-MODIFIED:20251208T144118Z
UID:10001148-1756771200-1768089599@www.mardigrascasinowv.com
SUMMARY:$100\,000 Football Pick'em Challenge
DESCRIPTION:September 2\, 2025 – January 10\, 2026 \nChoose who you think will win in the 2025-26 Pro Football season games for your chance at $500 Free Play every week! \nPick 207 out of 238 correctly\, and you’ll walk away with $100\,000 in CASH! \nRules & Regulations (pdf)
URL:https://www.mardigrascasinowv.com/event/100k-football-pickem-challenge/
CATEGORIES:Casino Gaming Promotions
ATTACH;FMTTYPE=image/jpeg:https://www.mardigrascasinowv.com/wp-content/uploads/2025/08/GMAR7483_100KPickEm_Web-Promo-300x500_Aug25_V1.jpg
END:VEVENT
BEGIN:VEVENT
DTSTART;TZID=America/New_York:20250904T150000
DTEND;TZID=America/New_York:20250904T210000
DTSTAMP:20260423T135615
CREATED:20250827T162753Z
LAST-MODIFIED:20250915T150720Z
UID:10001131-1756998000-1757019600@www.mardigrascasinowv.com
SUMMARY:September Sunrise Giveaway
DESCRIPTION:Thursdays | 3pm – 9pm \nEarn 100 points\, print your voucher at any promotional kiosk and stop by the promotional stage to redeem your free gift. \nRules & Regulations (pdf)
URL:https://www.mardigrascasinowv.com/event/september-sunrise-giveaway/2025-09-04/
CATEGORIES:Casino Gaming Promotions
ATTACH;FMTTYPE=image/jpeg:https://www.mardigrascasinowv.com/wp-content/uploads/2025/08/GMAR7483_SeptSunrise_Web-Promo-300x500_Aug25_V1.jpg
END:VEVENT
BEGIN:VEVENT
DTSTART;TZID=America/New_York:20250904T193000
DTEND;TZID=America/New_York:20250904T233000
DTSTAMP:20260423T135615
CREATED:20250827T163539Z
LAST-MODIFIED:20250827T163539Z
UID:10001135-1757014200-1757028600@www.mardigrascasinowv.com
SUMMARY:Kick Up Your Heels
DESCRIPTION:Presented by Kickin’ Kountry\nThursdays | 7:30pm – 9:30pm\nOpen Dance Floor | 9:30pm – 11:30pm \nJoin us for your chance to learn line dancing and win a $1\,000 GIFT CARD on September 25! Check in at Louie’s Lounge and participate in Kick Up Your Heels to earn entries for our September 25 drawing.
URL:https://www.mardigrascasinowv.com/event/kick-up-your-heels/2025-09-04/
CATEGORIES:Casino Gaming Promotions
ATTACH;FMTTYPE=image/jpeg:https://www.mardigrascasinowv.com/wp-content/uploads/2025/08/GMAR7483_KickupYourHeels_Web-Promo-300x500_Aug25_V1.jpg
END:VEVENT
END:VCALENDAR