BEGIN:VCALENDAR
VERSION:2.0
PRODID:-//Mardi Gras Casino - ECPv6.15.20//NONSGML v1.0//EN
CALSCALE:GREGORIAN
METHOD:PUBLISH
X-ORIGINAL-URL:https://www.mardigrascasinowv.com
X-WR-CALDESC:Events for Mardi Gras Casino
REFRESH-INTERVAL;VALUE=DURATION:PT1H
X-Robots-Tag:noindex
X-PUBLISHED-TTL:PT1H
BEGIN:VTIMEZONE
TZID:America/New_York
BEGIN:DAYLIGHT
TZOFFSETFROM:-0500
TZOFFSETTO:-0400
TZNAME:EDT
DTSTART:20240310T070000
END:DAYLIGHT
BEGIN:STANDARD
TZOFFSETFROM:-0400
TZOFFSETTO:-0500
TZNAME:EST
DTSTART:20241103T060000
END:STANDARD
BEGIN:DAYLIGHT
TZOFFSETFROM:-0500
TZOFFSETTO:-0400
TZNAME:EDT
DTSTART:20250309T070000
END:DAYLIGHT
BEGIN:STANDARD
TZOFFSETFROM:-0400
TZOFFSETTO:-0500
TZNAME:EST
DTSTART:20251102T060000
END:STANDARD
BEGIN:DAYLIGHT
TZOFFSETFROM:-0500
TZOFFSETTO:-0400
TZNAME:EDT
DTSTART:20260308T070000
END:DAYLIGHT
BEGIN:STANDARD
TZOFFSETFROM:-0400
TZOFFSETTO:-0500
TZNAME:EST
DTSTART:20261101T060000
END:STANDARD
END:VTIMEZONE
BEGIN:VEVENT
DTSTART;TZID=America/New_York:20250623T090000
DTEND;TZID=America/New_York:20250922T090000
DTSTAMP:20260425T064526
CREATED:20250529T184923Z
LAST-MODIFIED:20250805T200617Z
UID:10000881-1750669200-1758531600@www.mardigrascasinowv.com
SUMMARY:Hot Days = Hotter Rewards
DESCRIPTION:June 23  – September 22 | 9am – Midnight\n\n  \nWhen the temperature hits 90° or higher\, Lucky North® Rewards members score an all-day multiplier!* The hotter it gets\, the more you earn! Watch the forecast and heat up your rewards this summer! \n*Valid Monday through Friday during the promotional period.
URL:https://www.mardigrascasinowv.com/event/hot-days-hotter-rewards/
CATEGORIES:Casino Gaming Promotions
ATTACH;FMTTYPE=image/jpeg:https://www.mardigrascasinowv.com/wp-content/uploads/2025/05/GMAR7354_HotterDays_Web-Promo-300x500_May25_V1.jpg
END:VEVENT
BEGIN:VEVENT
DTSTART;VALUE=DATE:20250701
DTEND;VALUE=DATE:20251201
DTSTAMP:20260425T064526
CREATED:20250701T161312Z
LAST-MODIFIED:20251024T180234Z
UID:10000957-1751328000-1764547199@www.mardigrascasinowv.com
SUMMARY:Honoring The Heroes Among Us
DESCRIPTION:Now Available\n\nWe are proud to recognize veterans\, active-duty military and first responders who serve and protect our community and country with our new HERO program! \nVisit the Lucky North® Rewards desk with required documents to receive your designation as a HERO member and unlock more benefits: \n\nCommemorative HERO card\nUpgrade to Emerald status*\nAccess to future HERO exclusive promotions\, offers and discounts.\n\nClick here for more information and required proof of status.
URL:https://www.mardigrascasinowv.com/event/honoring-the-heroes-among-us/
CATEGORIES:Casino Gaming Promotions
ATTACH;FMTTYPE=image/jpeg:https://www.mardigrascasinowv.com/wp-content/uploads/2025/06/GHAM7401_HeroCardLaunch_Web300x250_Jun25_V1.jpg
END:VEVENT
BEGIN:VEVENT
DTSTART;VALUE=DATE:20250728
DTEND;VALUE=DATE:20250826
DTSTAMP:20260425T064526
CREATED:20250728T162359Z
LAST-MODIFIED:20250731T195103Z
UID:10001005-1753660800-1756166399@www.mardigrascasinowv.com
SUMMARY:Help us reach #1 in USA Today
DESCRIPTION:July 28 – August 25\n\nThe USA Today’s 10Best Readers’ Choice Awards has nominated Lucky North® Rewards for “Best Players Club.” \nVote once per day. Voting ends August 25. \n\nVOTE TODAY \nUSA Today’s 10Best lists provide original\, unbiased and experiential travel content of top attractions\, things to see and do\, and restaurants for top destinations in the U.S. and around the world. \nShow your support and help us reach the top!
URL:https://www.mardigrascasinowv.com/event/help-us-reach-1-in-usa-today/
CATEGORIES:Casino Gaming Promotions
ATTACH;FMTTYPE=image/jpeg:https://www.mardigrascasinowv.com/wp-content/uploads/2025/07/GCORP7439_USATodayVote_LNR_WebPromo_300x250_July25_V1.jpg
END:VEVENT
BEGIN:VEVENT
DTSTART;VALUE=DATE:20250824
DTEND;VALUE=DATE:20250825
DTSTAMP:20260425T064526
CREATED:20250827T161920Z
LAST-MODIFIED:20250915T150518Z
UID:10001015-1755993600-1756079999@www.mardigrascasinowv.com
SUMMARY:$2\,500 Strike in Style
DESCRIPTION:Saturdays in September\n3pm – 9pm | Five winners will play a bowling mini-game for a chance to win $1\,000 FREE PLAY!\n10pm | Three winners will play for a chance at $2\,500 FREE PLAY! \nSeptember 27 | 11pm\nJoin us for the GRAND FINALE of our Furniture Giveaway promotion\, where one lucky guest will win a luxury living room makeover from Big Sandy’s Superstore! \nSundays | 1pm – 6pm\nFive winners will play a bowling mini-game for a chance to win $1\,000 FREE PLAY! \nRules & Regulations (pdf)
URL:https://www.mardigrascasinowv.com/event/2500-strike-in-style/2025-08-24/
CATEGORIES:Casino Gaming Promotions
ATTACH;FMTTYPE=image/jpeg:https://www.mardigrascasinowv.com/wp-content/uploads/2025/08/GMAR7483_StrikeInStyle_Web-Promo-300x250_Aug25_V1.jpg
END:VEVENT
BEGIN:VEVENT
DTSTART;TZID=America/New_York:20250824T130000
DTEND;TZID=America/New_York:20250824T180000
DTSTAMP:20260425T064526
CREATED:20250723T134843Z
LAST-MODIFIED:20250805T194132Z
UID:10000967-1756040400-1756058400@www.mardigrascasinowv.com
SUMMARY:Go For The Green
DESCRIPTION:Saturdays in August | 3pm – 9pm | Free Play Drawings\nSaturdays in August | 10pm | Cash Drawings\nSundays in August | 1pm – 6pm | Free Play Drawings\nSaturday\, August 30 | 11pm | Kawasaki Teryx KRX Drawing\n\nSaturdays in August | 3pm – 10pm \n3pm – 9pm \nFive winners play a mini-golf challenge for a chance to win $2\,500 Free Play! \n10pm\nThree winners play for cash! One lucky winner with a golden ball will have a chance at up to $12\,000 Free Play! \n\nSundays in August | 1pm – 6pm \nFive winners each hour play the mini-golf challenge for a chance to win $2\,500 Free Play! \n\nSaturday\, August 30 | 11pm \nEarn entries through August and come back on August 30 for a chance to win a 2025 Kawasaki Teryx KRX from Dohm Cycles!
URL:https://www.mardigrascasinowv.com/event/go-for-the-green/2025-08-24/
CATEGORIES:Casino Gaming Promotions
ATTACH;FMTTYPE=image/jpeg:https://www.mardigrascasinowv.com/wp-content/uploads/2025/07/GSOU7434_GoForTheGreen_Web-Promo-300x250_Jul25_V1.jpg
END:VEVENT
END:VCALENDAR