BEGIN:VCALENDAR
VERSION:2.0
PRODID:-//Mardi Gras Casino - ECPv6.15.20//NONSGML v1.0//EN
CALSCALE:GREGORIAN
METHOD:PUBLISH
X-WR-CALNAME:Mardi Gras Casino
X-ORIGINAL-URL:https://www.mardigrascasinowv.com
X-WR-CALDESC:Events for Mardi Gras Casino
REFRESH-INTERVAL;VALUE=DURATION:PT1H
X-Robots-Tag:noindex
X-PUBLISHED-TTL:PT1H
BEGIN:VTIMEZONE
TZID:America/New_York
BEGIN:DAYLIGHT
TZOFFSETFROM:-0500
TZOFFSETTO:-0400
TZNAME:EDT
DTSTART:20230312T070000
END:DAYLIGHT
BEGIN:STANDARD
TZOFFSETFROM:-0400
TZOFFSETTO:-0500
TZNAME:EST
DTSTART:20231105T060000
END:STANDARD
BEGIN:DAYLIGHT
TZOFFSETFROM:-0500
TZOFFSETTO:-0400
TZNAME:EDT
DTSTART:20240310T070000
END:DAYLIGHT
BEGIN:STANDARD
TZOFFSETFROM:-0400
TZOFFSETTO:-0500
TZNAME:EST
DTSTART:20241103T060000
END:STANDARD
BEGIN:DAYLIGHT
TZOFFSETFROM:-0500
TZOFFSETTO:-0400
TZNAME:EDT
DTSTART:20250309T070000
END:DAYLIGHT
BEGIN:STANDARD
TZOFFSETFROM:-0400
TZOFFSETTO:-0500
TZNAME:EST
DTSTART:20251102T060000
END:STANDARD
END:VTIMEZONE
BEGIN:VTIMEZONE
TZID:UTC
BEGIN:STANDARD
TZOFFSETFROM:+0000
TZOFFSETTO:+0000
TZNAME:UTC
DTSTART:20230101T000000
END:STANDARD
END:VTIMEZONE
BEGIN:VEVENT
DTSTART;VALUE=DATE:20241101
DTEND;VALUE=DATE:20241201
DTSTAMP:20260422T070203
CREATED:20241030T160919Z
LAST-MODIFIED:20241030T160919Z
UID:10000270-1730419200-1733011199@www.mardigrascasinowv.com
SUMMARY:November Drink Special
DESCRIPTION:Available All Month Long (through November) \n\nCranberry Bourbon | $9 \nWoodford\, sweet vermouth\, orange juice\, cranberry juice. \n  \nServed only at the Sports Bar.
URL:https://www.mardigrascasinowv.com/event/november-drink-special/
CATEGORIES:Dining Promotions
ATTACH;FMTTYPE=image/jpeg:https://www.mardigrascasinowv.com/wp-content/uploads/2024/10/GMMAR6964_DrinkSpecial_WebPromo_300x250.jpg
END:VEVENT
BEGIN:VEVENT
DTSTART;VALUE=DATE:20241101
DTEND;VALUE=DATE:20241201
DTSTAMP:20260422T070203
CREATED:20241030T170533Z
LAST-MODIFIED:20241030T170533Z
UID:10000269-1730419200-1733011199@www.mardigrascasinowv.com
SUMMARY:Cafe Orleans November Specials
DESCRIPTION:Available Through November \n\nGrilled Cheese and Soup of the Day | $12 \nTexas toast with American cheese with a cup of our soup of the day \n  \nRed Apple Cider Sangria | $9  \nInfused with fresh apples and cinnamon \n  \nServed only at Cafe Orleans.
URL:https://www.mardigrascasinowv.com/event/cafe-orleans-november-specials/
CATEGORIES:Dining Promotions
ATTACH;FMTTYPE=image/jpeg:https://www.mardigrascasinowv.com/wp-content/uploads/2024/10/GMMAR6964_Cafe_NovSpecials_Web_300x250.jpg
END:VEVENT
BEGIN:VEVENT
DTSTART;TZID=UTC:20241127T090000
DTEND;TZID=UTC:20241127T235900
DTSTAMP:20260422T070203
CREATED:20240709T013620Z
LAST-MODIFIED:20250121T212725Z
UID:10000318-1732698000-1732751940@www.mardigrascasinowv.com
SUMMARY:50 Plus Winsdays
DESCRIPTION:Wednesdays | 9am–Midnight \n\nFor members age 50+ \n50+ members who earn 100 points are eligible to play a kiosk game for a chance to win up to $1\,000 in Free Play!
URL:https://www.mardigrascasinowv.com/event/50-plus-winsdays/2024-11-27/
CATEGORIES:Casino Gaming Promotions
ATTACH;FMTTYPE=image/jpeg:https://www.mardigrascasinowv.com/wp-content/uploads/2024/07/MG-50-Plus-promo.jpg
END:VEVENT
BEGIN:VEVENT
DTSTART;TZID=UTC:20241127T170000
DTEND;TZID=UTC:20241127T220000
DTSTAMP:20260422T070203
CREATED:20240730T233616Z
LAST-MODIFIED:20250131T143325Z
UID:10000274-1732726800-1732744800@www.mardigrascasinowv.com
SUMMARY:French Quarter - Prime Rib Dinner for Two
DESCRIPTION:Wednesdays | 5pm – 10pm | $60 Per Couple \n\nSalad\nSweet spring mixed greens\, tomatoes\, cucumbers\, red onion and carrots \nEntrée\nPrime rib\, baked potato\, green beans\, creamy horseradish sauce and au jus \nDessert for Sharing\nVanilla bean cheesecake with strawberry sauce
URL:https://www.mardigrascasinowv.com/event/prime-rib-dinner-for-two/2024-11-27/
CATEGORIES:Dining Promotions
ATTACH;FMTTYPE=image/jpeg:https://www.mardigrascasinowv.com/wp-content/uploads/2024/07/MG_PrimeRibNight_Promo.jpg
END:VEVENT
BEGIN:VEVENT
DTSTART;TZID=America/New_York:20241127T180000
DTEND;TZID=America/New_York:20241127T210000
DTSTAMP:20260422T070203
CREATED:20241029T203352Z
LAST-MODIFIED:20241029T203352Z
UID:10000289-1732730400-1732741200@www.mardigrascasinowv.com
SUMMARY:November Jackpot Drawings
DESCRIPTION:Wednesday\, November 27\nFree Play Drawing | 6pm–8:30pm\n$1\,000 Cash Drawing | 9pm \n\nStarting October 29 through November 26\, Lucky North® Club members who hit a taxable slot jackpot will receive a free promotional scratch-card ticket from a slots team member. Redeem your promotional scratch-card tickets at the Lucky North® Club beginning the next day.* \nCome back on November 27 to deposit tickets into the drawing barrel starting at 5pm for your chance to win Free Play and $1\,000 CASH! \n\nTicket and awarded Free Play are non-transferable and will be valid for seven days after issue date. See the Lucky North® Club for full details. This promotion is not administered or sponsored by the West Virginia Lottery.
URL:https://www.mardigrascasinowv.com/event/november-jackpot-drawings/
CATEGORIES:Casino Gaming Promotions
ATTACH;FMTTYPE=image/jpeg:https://www.mardigrascasinowv.com/wp-content/uploads/2024/07/MG-Jackpot-Drawings-promo.jpg
END:VEVENT
END:VCALENDAR