BEGIN:VCALENDAR
VERSION:2.0
PRODID:-//Mardi Gras Casino - ECPv6.15.20//NONSGML v1.0//EN
CALSCALE:GREGORIAN
METHOD:PUBLISH
X-ORIGINAL-URL:https://www.mardigrascasinowv.com
X-WR-CALDESC:Events for Mardi Gras Casino
REFRESH-INTERVAL;VALUE=DURATION:PT1H
X-Robots-Tag:noindex
X-PUBLISHED-TTL:PT1H
BEGIN:VTIMEZONE
TZID:UTC
BEGIN:STANDARD
TZOFFSETFROM:+0000
TZOFFSETTO:+0000
TZNAME:UTC
DTSTART:20230101T000000
END:STANDARD
END:VTIMEZONE
BEGIN:VEVENT
DTSTART;VALUE=DATE:20240729
DTEND;VALUE=DATE:20240826
DTSTAMP:20260421T084043
CREATED:20240730T223902Z
LAST-MODIFIED:20240730T223902Z
UID:10000082-1722211200-1724630399@www.mardigrascasinowv.com
SUMMARY:Help us reach #1 in USA Today
DESCRIPTION:The USA Today’s 10Best Awards has nominated The Lucky North® Club for “Best Players Club.” \nVote once per day until Voting ends at noon on August 26. \nVOTE TODAY \nUSA Today’s 10Best lists provide original\, unbiased and experiential travel content of top attractions\, things to see and do\, and restaurants for top destinations in the U.S. and around the world. \nShow your support and help us reach the top!
URL:https://www.mardigrascasinowv.com/event/usa-todays-10best-awards/
CATEGORIES:Casino Gaming Promotions
ATTACH;FMTTYPE=image/jpeg:https://www.mardigrascasinowv.com/wp-content/uploads/2024/07/WH-USATodayVote-Promo.jpg
END:VEVENT
BEGIN:VEVENT
DTSTART;VALUE=DATE:20240801
DTEND;VALUE=DATE:20240901
DTSTAMP:20260421T084043
CREATED:20240730T231839Z
LAST-MODIFIED:20240731T180842Z
UID:10000088-1722470400-1725148799@www.mardigrascasinowv.com
SUMMARY:August Drink Special
DESCRIPTION:Drink Special | Available All Month Long \n\nWhiskey Ale | $9 \nBulleit Rye Whiskey and Ginger Ale \nServed only at the Sports Bar.
URL:https://www.mardigrascasinowv.com/event/sports-bar-drink-special/
CATEGORIES:Dining Promotions
ATTACH;FMTTYPE=image/jpeg:https://www.mardigrascasinowv.com/wp-content/uploads/2024/07/MG-AugustDrinkSpecial-Promo.jpg
END:VEVENT
BEGIN:VEVENT
DTSTART;VALUE=DATE:20240801
DTEND;VALUE=DATE:20240901
DTSTAMP:20260421T084043
CREATED:20240731T180119Z
LAST-MODIFIED:20240731T180119Z
UID:10000094-1722470400-1725148799@www.mardigrascasinowv.com
SUMMARY:Cafe Orleans August Specials
DESCRIPTION:Available Through August \n\nPork Rib BBQ Hoagie | $12 \nPork rib\, red onion\, pickle\, coleslaw on grilled hoagie bun served with fries \nStrawberry Banana Daiquiri | $9.50 \nServed only at Cafe Orleans.
URL:https://www.mardigrascasinowv.com/event/cafe-orleans-specials/
CATEGORIES:Dining Promotions
ATTACH;FMTTYPE=image/jpeg:https://www.mardigrascasinowv.com/wp-content/uploads/2024/07/MG-CafeOrleansSpecial-Promo.jpg
END:VEVENT
BEGIN:VEVENT
DTSTART;TZID=UTC:20240813T090000
DTEND;TZID=UTC:20240813T235900
DTSTAMP:20260421T084043
CREATED:20240801T183105Z
LAST-MODIFIED:20241021T165347Z
UID:10000073-1723539600-1723593540@www.mardigrascasinowv.com
SUMMARY:Tiers Day Tuesdays
DESCRIPTION:Tuesdays | 9am–Midnight \n\nEarn 250 points on Tuesday for a chance to play a kiosk game for a minimum of $25 in Free Play. \nEach tier can win up to: \n\nRuby: $1\,000\nEmerald: $2\,000\nSapphire: $3\,000\nDiamond: $4\,000\nBlack Diamond: $5\,000
URL:https://www.mardigrascasinowv.com/event/tiers-day-tuesdays/2024-08-13/
CATEGORIES:Casino Gaming Promotions
ATTACH;FMTTYPE=image/jpeg:https://www.mardigrascasinowv.com/wp-content/uploads/2024/08/GMAR6817_TiersTuesday_Web-Promo-300x500_July24_V1.jpg
END:VEVENT
END:VCALENDAR