BEGIN:VCALENDAR
VERSION:2.0
PRODID:-//Mardi Gras Casino - ECPv6.15.20//NONSGML v1.0//EN
CALSCALE:GREGORIAN
METHOD:PUBLISH
X-WR-CALNAME:Mardi Gras Casino
X-ORIGINAL-URL:https://www.mardigrascasinowv.com
X-WR-CALDESC:Events for Mardi Gras Casino
REFRESH-INTERVAL;VALUE=DURATION:PT1H
X-Robots-Tag:noindex
X-PUBLISHED-TTL:PT1H
BEGIN:VTIMEZONE
TZID:UTC
BEGIN:STANDARD
TZOFFSETFROM:+0000
TZOFFSETTO:+0000
TZNAME:UTC
DTSTART:20230101T000000
END:STANDARD
END:VTIMEZONE
BEGIN:VEVENT
DTSTART;VALUE=DATE:20240713
DTEND;VALUE=DATE:20240714
DTSTAMP:20260421T094818
CREATED:20240723T175213Z
LAST-MODIFIED:20250225T181822Z
UID:10000040-1720828800-1720915199@www.mardigrascasinowv.com
SUMMARY:Louie's Lounge
DESCRIPTION:Free Entertainment at Louie’s Lounge\n\n\nFebruary 2025\nFriday\, February 28 | 8pm – Midnight\nGolden \n\nMarch 2025\nSaturday\, March 1 | 8pm – Midnight\nBent Whiskey\nFriday\, March 7 | 8pm – Midnight\nAmos Steel\nSaturday\, March 8 | 8pm – Midnight\nRestless\nFriday\, March 14 | 8pm – Midnight\nNon-Friction\nSaturday\, March 15 | 8pm – Midnight\nAAA Entertainment\nFriday\, March 21 | 8pm – Midnight\nBlack Sheep\nSaturday\, March 22 | 8pm – Midnight\nSanta Cruz\nFriday\, March 28 | 8pm – Midnight\nGolden\nSaturday\, March 29 | 8pm – Midnight\nAdam Parker and The Bourbon Cowboys \n 
URL:https://www.mardigrascasinowv.com/event/louies-lounge/2024-07-13/
CATEGORIES:Live Entertainment
ATTACH;FMTTYPE=image/jpeg:https://www.mardigrascasinowv.com/wp-content/uploads/2024/07/MG-Louies-Entertainment-promo.jpg
END:VEVENT
END:VCALENDAR